BEGIN:VCALENDAR
VERSION:2.0
PRODID:-//Norton Healthcare - ECPv6.15.20//NONSGML v1.0//EN
CALSCALE:GREGORIAN
METHOD:PUBLISH
X-WR-CALNAME:Norton Healthcare
X-ORIGINAL-URL:https://nortonhealthcare.com
X-WR-CALDESC:Events for Norton Healthcare
REFRESH-INTERVAL;VALUE=DURATION:PT1H
X-Robots-Tag:noindex
X-PUBLISHED-TTL:PT1H
BEGIN:VTIMEZONE
TZID:America/Kentucky/Louisville
BEGIN:DAYLIGHT
TZOFFSETFROM:-0500
TZOFFSETTO:-0400
TZNAME:EDT
DTSTART:20250309T070000
END:DAYLIGHT
BEGIN:STANDARD
TZOFFSETFROM:-0400
TZOFFSETTO:-0500
TZNAME:EST
DTSTART:20251102T060000
END:STANDARD
BEGIN:DAYLIGHT
TZOFFSETFROM:-0500
TZOFFSETTO:-0400
TZNAME:EDT
DTSTART:20260308T070000
END:DAYLIGHT
BEGIN:STANDARD
TZOFFSETFROM:-0400
TZOFFSETTO:-0500
TZNAME:EST
DTSTART:20261101T060000
END:STANDARD
BEGIN:DAYLIGHT
TZOFFSETFROM:-0500
TZOFFSETTO:-0400
TZNAME:EDT
DTSTART:20270314T070000
END:DAYLIGHT
BEGIN:STANDARD
TZOFFSETFROM:-0400
TZOFFSETTO:-0500
TZNAME:EST
DTSTART:20271107T060000
END:STANDARD
END:VTIMEZONE
BEGIN:VEVENT
DTSTART;TZID=America/Kentucky/Louisville:20260327T180000
DTEND;TZID=America/Kentucky/Louisville:20260327T200000
DTSTAMP:20260425T130815
CREATED:20260313T201434Z
LAST-MODIFIED:20260313T201434Z
UID:10000055-1774634400-1774641600@nortonhealthcare.com
SUMMARY:Family Enrichment Center\, Inc. Run & Walk for Children\, Glow Run
DESCRIPTION:Norton Children’s Outreach & Communications Team will be onsite at this event\, hosted by Family Enrichment Inc.\, to offer helpful resources. Stop by our table to learn more\, ask questions and connect with our team. This event is open to the public\, and all services we provide during the event are free.
URL:https://nortonhealthcare.com/community-event/family-enrichment-center-inc-run-walk-for-children-glow-run/
LOCATION:ephram white park\, 885 KY-526\, Bowling Green\, 42101\, United States
ORGANIZER;CN="Family Enrichment Center%2C LLC":MAILTO:info@fecbg.com
END:VEVENT
END:VCALENDAR