BEGIN:VCALENDAR
VERSION:2.0
PRODID:-//Norton Healthcare - ECPv6.15.20//NONSGML v1.0//EN
CALSCALE:GREGORIAN
METHOD:PUBLISH
X-WR-CALNAME:Norton Healthcare
X-ORIGINAL-URL:https://nortonhealthcare.com
X-WR-CALDESC:Events for Norton Healthcare
REFRESH-INTERVAL;VALUE=DURATION:PT1H
X-Robots-Tag:noindex
X-PUBLISHED-TTL:PT1H
BEGIN:VTIMEZONE
TZID:America/Kentucky/Louisville
BEGIN:DAYLIGHT
TZOFFSETFROM:-0500
TZOFFSETTO:-0400
TZNAME:EDT
DTSTART:20250309T070000
END:DAYLIGHT
BEGIN:STANDARD
TZOFFSETFROM:-0400
TZOFFSETTO:-0500
TZNAME:EST
DTSTART:20251102T060000
END:STANDARD
BEGIN:DAYLIGHT
TZOFFSETFROM:-0500
TZOFFSETTO:-0400
TZNAME:EDT
DTSTART:20260308T070000
END:DAYLIGHT
BEGIN:STANDARD
TZOFFSETFROM:-0400
TZOFFSETTO:-0500
TZNAME:EST
DTSTART:20261101T060000
END:STANDARD
BEGIN:DAYLIGHT
TZOFFSETFROM:-0500
TZOFFSETTO:-0400
TZNAME:EDT
DTSTART:20270314T070000
END:DAYLIGHT
BEGIN:STANDARD
TZOFFSETFROM:-0400
TZOFFSETTO:-0500
TZNAME:EST
DTSTART:20271107T060000
END:STANDARD
END:VTIMEZONE
BEGIN:VEVENT
DTSTART;TZID=America/Kentucky/Louisville:20260214T110000
DTEND;TZID=America/Kentucky/Louisville:20260214T140000
DTSTAMP:20260423T163017
CREATED:20260127T184415Z
LAST-MODIFIED:20260127T184415Z
UID:10000033-1771066800-1771077600@nortonhealthcare.com
SUMMARY:Afghan Lived Experience Celebration Event
DESCRIPTION:Norton Healthcare will provide screenings at this event.
URL:https://nortonhealthcare.com/community-event/afghan-lived-experience-celebration-event/
LOCATION:Americana World Community Center\, 4801 Southside Dr.\, Louisville\, 40214\, United States
END:VEVENT
END:VCALENDAR