BEGIN:VCALENDAR
VERSION:2.0
PRODID:-//Norton Healthcare - ECPv6.15.20//NONSGML v1.0//EN
CALSCALE:GREGORIAN
METHOD:PUBLISH
X-ORIGINAL-URL:https://nortonhealthcare.com
X-WR-CALDESC:Events for Norton Healthcare
REFRESH-INTERVAL;VALUE=DURATION:PT1H
X-Robots-Tag:noindex
X-PUBLISHED-TTL:PT1H
BEGIN:VTIMEZONE
TZID:America/Kentucky/Louisville
BEGIN:DAYLIGHT
TZOFFSETFROM:-0500
TZOFFSETTO:-0400
TZNAME:EDT
DTSTART:20250309T070000
END:DAYLIGHT
BEGIN:STANDARD
TZOFFSETFROM:-0400
TZOFFSETTO:-0500
TZNAME:EST
DTSTART:20251102T060000
END:STANDARD
BEGIN:DAYLIGHT
TZOFFSETFROM:-0500
TZOFFSETTO:-0400
TZNAME:EDT
DTSTART:20260308T070000
END:DAYLIGHT
BEGIN:STANDARD
TZOFFSETFROM:-0400
TZOFFSETTO:-0500
TZNAME:EST
DTSTART:20261101T060000
END:STANDARD
BEGIN:DAYLIGHT
TZOFFSETFROM:-0500
TZOFFSETTO:-0400
TZNAME:EDT
DTSTART:20270314T070000
END:DAYLIGHT
BEGIN:STANDARD
TZOFFSETFROM:-0400
TZOFFSETTO:-0500
TZNAME:EST
DTSTART:20271107T060000
END:STANDARD
END:VTIMEZONE
BEGIN:VEVENT
DTSTART;TZID=America/Kentucky/Louisville:20260328T140000
DTEND;TZID=America/Kentucky/Louisville:20260328T170000
DTSTAMP:20260423T120918
CREATED:20260224T212214Z
LAST-MODIFIED:20260224T212214Z
UID:10000038-1774706400-1774717200@nortonhealthcare.com
SUMMARY:Meet the Easter Bunny: March 28
DESCRIPTION:The Easter Bunny will be hopping into Community Education Centers 1 and 2 at Norton West Louisville Hospital on Saturday\, March 28 from 2 to 5 p.m.  Families are invited to bring their children to meet the Easter Bunny\, take photos\, and create memories.  There is no cost to attend.
URL:https://nortonhealthcare.com/community-event/meet-the-easter-bunny-march-28/
LOCATION:Norton West Louisville Hospital Community Education Centers 1 and 2\, 850 South 28th Street\, Louisville\, 40211\, United States
ORGANIZER;CN="Norton West Louisville Hospital":MAILTO:abra.sickles@nortonhealthcare.org
END:VEVENT
BEGIN:VEVENT
DTSTART;TZID=America/Kentucky/Louisville:20260327T180000
DTEND;TZID=America/Kentucky/Louisville:20260327T200000
DTSTAMP:20260423T120918
CREATED:20260224T212007Z
LAST-MODIFIED:20260224T212007Z
UID:10000037-1774634400-1774641600@nortonhealthcare.com
SUMMARY:Meet the Easter Bunny: March 27
DESCRIPTION:The Easter Bunny will be hopping into Community Education Centers 1 and 2 at Norton West Louisville Hospital on Friday\, March 27 from 6 to 8 p.m.  Families are invited to bring their children\, take photos\, and create memories. There is no cost to attend.
URL:https://nortonhealthcare.com/community-event/meet-the-easter-bunny-march-27/
LOCATION:Norton West Louisville Hospital Community Education Centers 1 and 2\, 850 South 28th Street\, Louisville\, 40211\, United States
ORGANIZER;CN="Norton West Louisville Hospital":MAILTO:abra.sickles@nortonhealthcare.org
END:VEVENT
BEGIN:VEVENT
DTSTART;TZID=America/Kentucky/Louisville:20260306T110000
DTEND;TZID=America/Kentucky/Louisville:20260306T130000
DTSTAMP:20260423T120918
CREATED:20260226T155826Z
LAST-MODIFIED:20260226T155826Z
UID:10000044-1772794800-1772802000@nortonhealthcare.com
SUMMARY:Norton West Louisville Hospital Dress in Blue Day
DESCRIPTION:Join the team at Norton West Louisville as we celebrate National Colon Cancer Awareness Month. We encourage everyone to wear blue. See the inflatable colon\, get colon education and resources.
URL:https://nortonhealthcare.com/community-event/norton-west-louisville-hospital-dress-in-blue-day/
LOCATION:Norton West Louisville Hospital Community Education Centers 1 and 2\, 850 South 28th Street\, Louisville\, 40211\, United States
ORGANIZER;CN="Norton West Louisville Hospital":MAILTO:abra.sickles@nortonhealthcare.org
END:VEVENT
BEGIN:VEVENT
DTSTART;TZID=America/Kentucky/Louisville:20260210T110000
DTEND;TZID=America/Kentucky/Louisville:20260210T130000
DTSTAMP:20260423T120918
CREATED:20260127T142638Z
LAST-MODIFIED:20260127T142638Z
UID:10000026-1770721200-1770728400@nortonhealthcare.com
SUMMARY:Norton West Louisville Hospital Heart Day
DESCRIPTION:Norton West Louisville Hospital will host a community Heart Day event on Tuesday\, Feb. 10 from 11 a.m. to 1 p.m. in Community Education Centers 1 and 2. February is National Heart Month\, and we encourage you to keep up with your heart health.  The event includes blood pressure and blood sugar screenings\, an adult and pediatric Hands-Only CPR demonstration\, and additional resources and information regarding heart health.
URL:https://nortonhealthcare.com/community-event/norton-west-louisville-hospital-heart-day/
LOCATION:Norton West Louisville Hospital Community Education Centers 1 and 2\, 850 South 28th Street\, Louisville\, 40211\, United States
END:VEVENT
END:VCALENDAR