BEGIN:VCALENDAR
VERSION:2.0
PRODID:-//Norton Healthcare - ECPv6.15.20//NONSGML v1.0//EN
CALSCALE:GREGORIAN
METHOD:PUBLISH
X-WR-CALNAME:Norton Healthcare
X-ORIGINAL-URL:https://nortonhealthcare.com
X-WR-CALDESC:Events for Norton Healthcare
REFRESH-INTERVAL;VALUE=DURATION:PT1H
X-Robots-Tag:noindex
X-PUBLISHED-TTL:PT1H
BEGIN:VTIMEZONE
TZID:America/Kentucky/Louisville
BEGIN:DAYLIGHT
TZOFFSETFROM:-0500
TZOFFSETTO:-0400
TZNAME:EDT
DTSTART:20250309T070000
END:DAYLIGHT
BEGIN:STANDARD
TZOFFSETFROM:-0400
TZOFFSETTO:-0500
TZNAME:EST
DTSTART:20251102T060000
END:STANDARD
BEGIN:DAYLIGHT
TZOFFSETFROM:-0500
TZOFFSETTO:-0400
TZNAME:EDT
DTSTART:20260308T070000
END:DAYLIGHT
BEGIN:STANDARD
TZOFFSETFROM:-0400
TZOFFSETTO:-0500
TZNAME:EST
DTSTART:20261101T060000
END:STANDARD
BEGIN:DAYLIGHT
TZOFFSETFROM:-0500
TZOFFSETTO:-0400
TZNAME:EDT
DTSTART:20270314T070000
END:DAYLIGHT
BEGIN:STANDARD
TZOFFSETFROM:-0400
TZOFFSETTO:-0500
TZNAME:EST
DTSTART:20271107T060000
END:STANDARD
END:VTIMEZONE
BEGIN:VEVENT
DTSTART;TZID=America/Kentucky/Louisville:20260415T110000
DTEND;TZID=America/Kentucky/Louisville:20260513T130000
DTSTAMP:20260420T083841
CREATED:20260316T171547Z
LAST-MODIFIED:20260316T171547Z
UID:10000060-1776250800-1778677200@nortonhealthcare.com
SUMMARY:IU Southeast Buzz Into Better Health
DESCRIPTION:Norton Healthcare will provide screenings at this event.
URL:https://nortonhealthcare.com/community-event/iu-southeast-buzz-into-better-health/
LOCATION:IUS\, 4201 Grant Line Rd.\, New Albany\, IN\, 47150\, United States
END:VEVENT
BEGIN:VEVENT
DTSTART;TZID=America/Kentucky/Louisville:20260424T180000
DTEND;TZID=America/Kentucky/Louisville:20260424T210000
DTSTAMP:20260420T083841
CREATED:20260226T164118Z
LAST-MODIFIED:20260226T164118Z
UID:10000053-1777053600-1777064400@nortonhealthcare.com
SUMMARY:Strings in the Spring
DESCRIPTION:Strings in the Spring returns on April 18 in Louisville for an evening rooted in Appalachian music\, storytelling and purpose. \nNow in its fourth year\, Strings in the Spring is more than a concert. It is a cultural gathering that brings people together through live music while raising awareness and support for the communities served across Kentucky and greater Appalachia. The night features regional artists\, craft folk and local collaborators\, all coming together to celebrate the sounds and stories of the Appalachian region. \nNorton Children’s will provide resources and information at the event.
URL:https://nortonhealthcare.com/community-event/strings-in-the-spring/
LOCATION:720 Brent St.\, 720 Brent St.\, Louisville\, 40204\, United States
END:VEVENT
BEGIN:VEVENT
DTSTART;TZID=America/Kentucky/Louisville:20260425T100000
DTEND;TZID=America/Kentucky/Louisville:20260425T140000
DTSTAMP:20260420T083841
CREATED:20260226T164424Z
LAST-MODIFIED:20260226T164424Z
UID:10000054-1777111200-1777125600@nortonhealthcare.com
SUMMARY:Damascus Court No. 27 Health and Vendor Fair
DESCRIPTION:Norton West Louisville Hospital and the Norton Children’s Prevention and Wellness teams will attend with resources and information.
URL:https://nortonhealthcare.com/community-event/damascus-court-no-27-health-and-vendor-fair/
LOCATION:1304 S. 28th St.\, 1304 S. 28th St.\, Louisville\, 40211\, United States
END:VEVENT
BEGIN:VEVENT
DTSTART;TZID=America/Kentucky/Louisville:20260425T110000
DTEND;TZID=America/Kentucky/Louisville:20260425T153000
DTSTAMP:20260420T083841
CREATED:20260316T172303Z
LAST-MODIFIED:20260316T172303Z
UID:10000061-1777114800-1777131000@nortonhealthcare.com
SUMMARY:Kentuckiana Pride Health & Wellness Fair
DESCRIPTION:Norton Healthcare will attend this event.
URL:https://nortonhealthcare.com/community-event/kentuckiana-pride-health-wellness-fair/
LOCATION:Lynn Family Stadium\, 350 Adams St.\, Louisville\, 40206\, United States
END:VEVENT
BEGIN:VEVENT
DTSTART;TZID=America/Kentucky/Louisville:20260425T160000
DTEND;TZID=America/Kentucky/Louisville:20260425T183000
DTSTAMP:20260420T083841
CREATED:20260226T162948Z
LAST-MODIFIED:20260226T162948Z
UID:10000051-1777132800-1777141800@nortonhealthcare.com
SUMMARY:YMCA Health Kids Day
DESCRIPTION:Norton Children’s will attend this event with resources and information on the new pediatric campus being built in Jeffersontown\, Kentucky. You will have the opportunity to fill out a survey providing your thoughts and ideas that will help shape the campus design.
URL:https://nortonhealthcare.com/community-event/ymca-health-kids-day/
LOCATION:YMCA – Clarksville\, 1400 Main St.\, Clarksville\, IN\, 47129\, United States
END:VEVENT
BEGIN:VEVENT
DTSTART;TZID=America/Kentucky/Louisville:20260509T120000
DTEND;TZID=America/Kentucky/Louisville:20260509T150000
DTSTAMP:20260420T083841
CREATED:20260226T163338Z
LAST-MODIFIED:20260226T163338Z
UID:10000052-1778328000-1778338800@nortonhealthcare.com
SUMMARY:Clark County Baby Shower
DESCRIPTION:Norton Children’s and Norton Clark Hospital will provide resources and information for expectant parents.
URL:https://nortonhealthcare.com/community-event/clark-county-baby-shower/
LOCATION:Clarksville Community Center\, 2311 Sam Gwin Dr.\, Clarksville\, IN\, 47129\, United States
END:VEVENT
BEGIN:VEVENT
DTSTART;TZID=America/Kentucky/Louisville:20260516T180000
DTEND;TZID=America/Kentucky/Louisville:20260516T203000
DTSTAMP:20260420T083841
CREATED:20260413T180030Z
LAST-MODIFIED:20260413T180030Z
UID:10000072-1778954400-1778963400@nortonhealthcare.com
SUMMARY:Mindful Connections: Family Fun Night
DESCRIPTION:The Freedom Center will host its 2nd Annual Mindful Connections event at Bicentennial Park in downtown Madison.  The Family Fun Night focuses on promoting area resources and showing kids that they don’t need to be afraid to ask for help.  Norton King’s Daughters’ Health will have a booth with games and activities. The first 400 kids who visit all the community booths will receive a free Kona Ice.  In addition to food trucks\, the local police and sheriff departments will be grilling free dogs.  The movie Finding Dory will be available for viewing free of charge once it’s dark outside (around 8:45 p.m.).
URL:https://nortonhealthcare.com/community-event/mindful-connections-family-fun-night/
LOCATION:Bicentennial Park\, 106 W. Vaughn Dr.\, Madison\, IN\, 47250\, United States
END:VEVENT
BEGIN:VEVENT
DTSTART;TZID=America/Kentucky/Louisville:20260520T150000
DTEND;TZID=America/Kentucky/Louisville:20260520T180000
DTSTAMP:20260420T083841
CREATED:20260413T190926Z
LAST-MODIFIED:20260413T190926Z
UID:10000073-1779289200-1779300000@nortonhealthcare.com
SUMMARY:Norton King's Daughters' Health Skin Cancer Screening
DESCRIPTION:The Cancer Center at Norton King’s Daughters’ Health (Madison\, IN) will host its annual Skin Cancer Screening on Wednesday\, May 20 from 3 to 6 p.m.  Community members are welcome and there is no cost to attend.  While the focus on the screening is on common sun-exposed areas such as the head and neck\, arms and legs\, all screenings are provided in private rooms.  Guests who have a specific area of concern should alert the staff upon arrival.  Registration is not required.
URL:https://nortonhealthcare.com/community-event/norton-kings-daughters-health-skin-cancer-screening/
LOCATION:Norton King’s Daughters’ Health Cancer Center\, 1373 E. State Road 62\, Madison\, IN\, 47250\, United States
END:VEVENT
BEGIN:VEVENT
DTSTART;TZID=America/Kentucky/Louisville:20260530T090000
DTEND;TZID=America/Kentucky/Louisville:20260530T130000
DTSTAMP:20260420T083841
CREATED:20260316T173128Z
LAST-MODIFIED:20260316T173128Z
UID:10000062-1780131600-1780146000@nortonhealthcare.com
SUMMARY:Junior League of Louisville's Touch-A-Truck\, Presented by Kentucky Kingdom
DESCRIPTION:Norton Healthcare will provide screenings at this event. The Just for Kids transport vehicle will also be there.
URL:https://nortonhealthcare.com/community-event/junior-league-of-louisvilles-touch-a-truck-presented-by-kentucky-kingdom/
LOCATION:Kentucky Expo Center\, 937 Phillips Ln.\, Lot R\, Louisville\, 40209\, United States
END:VEVENT
BEGIN:VEVENT
DTSTART;TZID=America/Kentucky/Louisville:20260530T100000
DTEND;TZID=America/Kentucky/Louisville:20260530T140000
DTSTAMP:20260420T083841
CREATED:20260413T145359Z
LAST-MODIFIED:20260413T145359Z
UID:10000071-1780135200-1780149600@nortonhealthcare.com
SUMMARY:Know Your Numbers: Blood Pressure and Stroke Prevention
DESCRIPTION:Join us for a free community health event focused on helping you understand your blood pressure and reduce your risk for stroke.  Norton West Louisville Hospital and YMCA wellness partners will provide quick screenings and tips to help you stay healthy and informed.  Activities include: Blood pressure and blood sugar screenings\, hands-only CPR demonstrations\, stroke prevention and warning signs education\, heart-healthy lifestyle tips\, primary care and community resources information\, and an exercise class at 1 p.m.
URL:https://nortonhealthcare.com/community-event/know-your-numbers-blood-pressure-and-stroke-prevention/
LOCATION:Republic Bank Foundation YMCA\, 1720 W. Broadway\, Louisville\, 40203\, United States
ORGANIZER;CN="Norton West Louisville Hospital":MAILTO:abra.sickles@nortonhealthcare.org
END:VEVENT
BEGIN:VEVENT
DTSTART;TZID=America/Kentucky/Louisville:20260530T100000
DTEND;TZID=America/Kentucky/Louisville:20260530T150000
DTSTAMP:20260420T083841
CREATED:20260316T204554Z
LAST-MODIFIED:20260316T204554Z
UID:10000067-1780135200-1780153200@nortonhealthcare.com
SUMMARY:All-American Soap Box Derby\, Super Kids Race
DESCRIPTION:Norton Children’s will be onsite at this event\, hosted by Kiwanis Club\, to offer helpful resources. Stop by our table to learn more\, ask questions and connect with our team. This event is open to the public.
URL:https://nortonhealthcare.com/community-event/all-american-soap-box-derby-super-kids-race/
LOCATION:Phil Moore Park\, Bowling Green\, 7101 Scottsville Road\, Bowling Green\, 42122\, United States
END:VEVENT
BEGIN:VEVENT
DTSTART;TZID=America/Kentucky/Louisville:20260530T110000
DTEND;TZID=America/Kentucky/Louisville:20260530T150000
DTSTAMP:20260420T083841
CREATED:20260316T173508Z
LAST-MODIFIED:20260316T173508Z
UID:10000063-1780138800-1780153200@nortonhealthcare.com
SUMMARY:Hope International AOH Church of God Community Day
DESCRIPTION:Norton Healthcare’s Faith and Health Ministries and Norton West Louisville Hospital teams will attend this event\, providing resources and information.
URL:https://nortonhealthcare.com/community-event/hope-international-aoh-church-of-god-community-day/
LOCATION:Hope International AOH Church of God\, 2330 Algonquin Pkwy.\, Louisville\, 40210\, United States
END:VEVENT
BEGIN:VEVENT
DTSTART;TZID=America/Kentucky/Louisville:20260604T110000
DTEND;TZID=America/Kentucky/Louisville:20260604T150000
DTSTAMP:20260420T083841
CREATED:20260316T205851Z
LAST-MODIFIED:20260316T205851Z
UID:10000068-1780570800-1780585200@nortonhealthcare.com
SUMMARY:Warren County Public Library Summer Reading Kick-off
DESCRIPTION:Norton Children’s Outreach Team and “Just for Kids” Transport Team will be onsite at this event\, hosted by Warren County Public Library\, to offer helpful resources. Stop by our table to learn more\, ask questions and connect with our team. This event is open to the public.
URL:https://nortonhealthcare.com/community-event/warren-county-public-library-summer-reading-kick-off/
LOCATION:ephram white park\, 885 KY-526\, Bowling Green\, 42101\, United States
END:VEVENT
BEGIN:VEVENT
DTSTART;TZID=America/Kentucky/Louisville:20260611T090000
DTEND;TZID=America/Kentucky/Louisville:20260611T140000
DTSTAMP:20260420T083841
CREATED:20260416T141949Z
LAST-MODIFIED:20260416T141949Z
UID:10000075-1781168400-1781186400@nortonhealthcare.com
SUMMARY:American Red Cross Blood Drive: Norton West Louisville Hospital
DESCRIPTION:The American Red Cross is hosting a blood drive on Thursday\, June 11 from 9 a.m. to 2 p.m. in the Community Education Room at Norton West Louisville Hospital\, 850 S. 28th St.\, Louisville.  The need for blood is constant.  No appointment necessary.  For more information\, contact Abra Sickles at abra.sickles@nortonhealthcare.org.  Learn more about giving blood at redcrossblood.org.
URL:https://nortonhealthcare.com/community-event/american-red-cross-blood-drive-norton-west-louisville-hospital/
LOCATION:Norton West Louisville Hospital Community Education Centers 1 and 2\, 850 South 28th Street\, Louisville\, 40211\, United States
END:VEVENT
BEGIN:VEVENT
DTSTART;TZID=America/Kentucky/Louisville:20260617T100000
DTEND;TZID=America/Kentucky/Louisville:20260617T120000
DTSTAMP:20260420T083841
CREATED:20260316T210740Z
LAST-MODIFIED:20260316T210740Z
UID:10000069-1781690400-1781697600@nortonhealthcare.com
SUMMARY:Stand For Children Day
DESCRIPTION:Norton Children’s Outreach Team will be onsite at this event\, hosted by Community Education\, Bowling Green\, to offer helpful resources. Stop by our table to learn more\, ask questions and connect with our team. This event is open to the public.
URL:https://nortonhealthcare.com/community-event/stand-for-children-day/
ORGANIZER;CN="Community Education%2C Bowing Green":MAILTO:info@commed.us
END:VEVENT
BEGIN:VEVENT
DTSTART;TZID=America/Kentucky/Louisville:20260718T100000
DTEND;TZID=America/Kentucky/Louisville:20260718T160000
DTSTAMP:20260420T083841
CREATED:20260316T211920Z
LAST-MODIFIED:20260316T211920Z
UID:10000070-1784368800-1784390400@nortonhealthcare.com
SUMMARY:PossAbilities Expo
DESCRIPTION:Norton Children’s will be onsite at this event\, hosted by the PossAbilities Expo\, to offer helpful resources. Stop by our table to learn more\, ask questions and connect with our team. This event is open to the public\, and all services we provide during the event are free.
URL:https://nortonhealthcare.com/community-event/possabilities-expo/
LOCATION:Knicely Conference Center\, 2355 Nashville Road\, Bowling Green\, 42101\, United States
END:VEVENT
BEGIN:VEVENT
DTSTART;TZID=America/Kentucky/Louisville:20260926T080000
DTEND;TZID=America/Kentucky/Louisville:20260926T100000
DTSTAMP:20260420T083841
CREATED:20260413T200147Z
LAST-MODIFIED:20260413T200147Z
UID:10000074-1790409600-1790416800@nortonhealthcare.com
SUMMARY:Run the Falls 5K
DESCRIPTION:Norton King’s Daughters’ Health will host its 28th Annual Run the Falls 5K at Clifty Falls State Park in Madison on Saturday\, Sept. 26.  This is a 3.1-mile road course through the park.  The registration area and finish line is located at the Clifty Falls State Park pool.  Restrooms are available.  Run the Falls 5K is an electronically timed event for runners and walkers of all ages.  Awards are presented to runners and walkers by age group\, with additional recognition for the top overall male and female finishers.  Registration opens at 7 a.m. on race day.  The 5K begins at 8 a.m.  Proceeds benefit the new EMS Transport Hub at Norton King’s Daughters’ Health.
URL:https://nortonhealthcare.com/community-event/run-the-falls-5k/
LOCATION:Clifty Falls State Park\, 2221 Clifty Dr.\, Madison\, IN\, 47250\, United States
END:VEVENT
END:VCALENDAR